BEGIN:VCALENDAR
VERSION:2.0
PRODID:-//Skills Union - ECPv5.16.4//NONSGML v1.0//EN
CALSCALE:GREGORIAN
METHOD:PUBLISH
X-ORIGINAL-URL:https://skillsunion.com
X-WR-CALDESC:Events for Skills Union
REFRESH-INTERVAL;VALUE=DURATION:PT1H
X-Robots-Tag:noindex
X-PUBLISHED-TTL:PT1H
BEGIN:VTIMEZONE
TZID:Asia/Shanghai
BEGIN:STANDARD
TZOFFSETFROM:+0800
TZOFFSETTO:+0800
TZNAME:CST
DTSTART:20220101T000000
END:STANDARD
END:VTIMEZONE
BEGIN:VEVENT
DTSTART;TZID=Asia/Shanghai:20220727T200000
DTEND;TZID=Asia/Shanghai:20220727T213000
DTSTAMP:20260421T153540
CREATED:20220610T083342Z
LAST-MODIFIED:20220714T030227Z
UID:4058-1658952000-1658957400@skillsunion.com
SUMMARY:UX Whiteboarding Party
DESCRIPTION:Preparing for an UX interview and unsure how to do whiteboarding? Come and find out some tips and have a chance to learn from others.
URL:https://skillsunion.com/event/ux-whiteboarding-party/
LOCATION:Discord
ATTACH;FMTTYPE=image/png:https://skillsunion.com/wp-content/uploads/2022/06/SU-E_June-UX_Banner-1.png
END:VEVENT
END:VCALENDAR